BEGIN:VCALENDAR
VERSION:2.0
PRODID:-//Rotorua Honey Bee Club - ECPv4.1.0.1//NONSGML v1.0//EN
CALSCALE:GREGORIAN
METHOD:PUBLISH
X-WR-CALNAME:Rotorua Honey Bee Club
X-ORIGINAL-URL:http://www.rotoruahoneybeeclub.co.nz
X-WR-CALDESC:Events for Rotorua Honey Bee Club
BEGIN:VEVENT
DTSTART;TZID="UTC+0":20191201T120000
DTEND;TZID="UTC+0":20191201T120000
DTSTAMP:20191221T130855
CREATED:20190930T204206
LAST-MODIFIED:20190930T204206
UID:1085-1575201600-1575201600@www.rotoruahoneybeeclub.co.nz
SUMMARY:A cruise on Lake Rotoiti on the Rotoiti Explorer.
DESCRIPTION:A cruise on Lake Rotoiti on the Rotoiti Explorer.\n\nThis will be an afternoon on the water with a cruise on the lake\, looking at points of\ninterest with the plan being to go to the Manupirua Spring Hot Pools (only accessible\nby boat).\nThere will be a small charge to contribute to the boat charter and the club will\nsubsidise the rest. Cost $10/person. Limit of 50. Book your place by emailing the\nclub. The hot pools charge is $20/adult and $10 per child. You will be responsible\nfor paying this at the pools if you decide to have a soak. (Highly recommended)\nAfternoon tea to share\, so please bring something yummy along with a contribution\nto the raffle.\nOnly those who have booked and paid will be able to attend this meeting.
URL:http://www.rotoruahoneybeeclub.co.nz/event/cruise-lake-rotoiti-rotoiti-explorer/
END:VEVENT
END:VCALENDAR